BEGIN:VCALENDAR
VERSION:2.0
PRODID:-//The Medium - ECPv6.15.20//NONSGML v1.0//EN
CALSCALE:GREGORIAN
METHOD:PUBLISH
X-WR-CALNAME:The Medium
X-ORIGINAL-URL:https://themedium.art
X-WR-CALDESC:Events for The Medium
REFRESH-INTERVAL;VALUE=DURATION:PT1H
X-Robots-Tag:noindex
X-PUBLISHED-TTL:PT1H
BEGIN:VTIMEZONE
TZID:America/Chicago
BEGIN:DAYLIGHT
TZOFFSETFROM:-0600
TZOFFSETTO:-0500
TZNAME:CDT
DTSTART:20250309T080000
END:DAYLIGHT
BEGIN:STANDARD
TZOFFSETFROM:-0500
TZOFFSETTO:-0600
TZNAME:CST
DTSTART:20251102T070000
END:STANDARD
BEGIN:DAYLIGHT
TZOFFSETFROM:-0600
TZOFFSETTO:-0500
TZNAME:CDT
DTSTART:20260308T080000
END:DAYLIGHT
BEGIN:STANDARD
TZOFFSETFROM:-0500
TZOFFSETTO:-0600
TZNAME:CST
DTSTART:20261101T070000
END:STANDARD
BEGIN:DAYLIGHT
TZOFFSETFROM:-0600
TZOFFSETTO:-0500
TZNAME:CDT
DTSTART:20270314T080000
END:DAYLIGHT
BEGIN:STANDARD
TZOFFSETFROM:-0500
TZOFFSETTO:-0600
TZNAME:CST
DTSTART:20271107T070000
END:STANDARD
END:VTIMEZONE
BEGIN:VEVENT
DTSTART;TZID=America/Chicago:20260428T160000
DTEND;TZID=America/Chicago:20260428T173000
DTSTAMP:20260423T052900
CREATED:20260212T205417Z
LAST-MODIFIED:20260423T090410Z
UID:10000681-1777392000-1777397400@themedium.art
SUMMARY:Art Classes for Kids!
DESCRIPTION:Tuesdays\, February 24 – March 17\, 4:00 – 5:30PN \nJoin Brook Blanton of the Sunbeam Art House for a 4 week series of hands-on art for 7-12 year olds! Get ready to mix exploration with classic art mediums in this six-week kids’ process art journey. These once-a-week\, fun\, open-ended art projects will build confidence\, curiosity and imagination in a supportive environment. Through creative freedom we will unlock the spark within. \nThis class will take place on Tuesdays from 4:00 PM to 5:30 PM for four weeks\, beginning Feb 24 and ending March 17. The entire 4 week series is $79\, that is under $20 a session and includes all materials! Sign up today!
URL:https://themedium.art/event/art-classes-for-kids-10/
LOCATION:The Medium\, 214 South Main St\, Springdale\, AR\, United States
CATEGORIES:Family,Visual Arts,Workshops
ATTACH;FMTTYPE=image/png:https://themedium.art/wp-content/uploads/2026/02/Screenshot-2026-02-10-at-7.35.26-PM-DkKmLT.png
END:VEVENT
BEGIN:VEVENT
DTSTART;TZID=America/Chicago:20260505T160000
DTEND;TZID=America/Chicago:20260505T173000
DTSTAMP:20260423T052900
CREATED:20260212T205418Z
LAST-MODIFIED:20260423T090412Z
UID:10000682-1777996800-1778002200@themedium.art
SUMMARY:Art Classes for Kids!
DESCRIPTION:Tuesdays\, February 24 – March 17\, 4:00 – 5:30PN \nJoin Brook Blanton of the Sunbeam Art House for a 4 week series of hands-on art for 7-12 year olds! Get ready to mix exploration with classic art mediums in this six-week kids’ process art journey. These once-a-week\, fun\, open-ended art projects will build confidence\, curiosity and imagination in a supportive environment. Through creative freedom we will unlock the spark within. \nThis class will take place on Tuesdays from 4:00 PM to 5:30 PM for four weeks\, beginning Feb 24 and ending March 17. The entire 4 week series is $79\, that is under $20 a session and includes all materials! Sign up today!
URL:https://themedium.art/event/art-classes-for-kids-11/
LOCATION:The Medium\, 214 South Main St\, Springdale\, AR\, United States
CATEGORIES:Family,Visual Arts,Workshops
ATTACH;FMTTYPE=image/png:https://themedium.art/wp-content/uploads/2026/02/Screenshot-2026-02-10-at-7.35.26-PM-DkKmLT.png
END:VEVENT
BEGIN:VEVENT
DTSTART;TZID=America/Chicago:20260512T160000
DTEND;TZID=America/Chicago:20260512T173000
DTSTAMP:20260423T052900
CREATED:20260212T205418Z
LAST-MODIFIED:20260423T090413Z
UID:10000683-1778601600-1778607000@themedium.art
SUMMARY:Art Classes for Kids!
DESCRIPTION:Tuesdays\, February 24 – March 17\, 4:00 – 5:30PN \nJoin Brook Blanton of the Sunbeam Art House for a 4 week series of hands-on art for 7-12 year olds! Get ready to mix exploration with classic art mediums in this six-week kids’ process art journey. These once-a-week\, fun\, open-ended art projects will build confidence\, curiosity and imagination in a supportive environment. Through creative freedom we will unlock the spark within. \nThis class will take place on Tuesdays from 4:00 PM to 5:30 PM for four weeks\, beginning Feb 24 and ending March 17. The entire 4 week series is $79\, that is under $20 a session and includes all materials! Sign up today!
URL:https://themedium.art/event/art-classes-for-kids-12/
LOCATION:The Medium\, 214 South Main St\, Springdale\, AR\, United States
CATEGORIES:Family,Visual Arts,Workshops
ATTACH;FMTTYPE=image/png:https://themedium.art/wp-content/uploads/2026/02/Screenshot-2026-02-10-at-7.35.26-PM-DkKmLT.png
END:VEVENT
BEGIN:VEVENT
DTSTART;TZID=America/Chicago:20260519T160000
DTEND;TZID=America/Chicago:20260519T173000
DTSTAMP:20260423T052900
CREATED:20260218T010250Z
LAST-MODIFIED:20260423T090414Z
UID:10000684-1779206400-1779211800@themedium.art
SUMMARY:Art Classes for Kids!
DESCRIPTION:Tuesdays\, February 24 – March 17\, 4:00 – 5:30PN \nJoin Brook Blanton of the Sunbeam Art House for a 4 week series of hands-on art for 7-12 year olds! Get ready to mix exploration with classic art mediums in this six-week kids’ process art journey. These once-a-week\, fun\, open-ended art projects will build confidence\, curiosity and imagination in a supportive environment. Through creative freedom we will unlock the spark within. \nThis class will take place on Tuesdays from 4:00 PM to 5:30 PM for four weeks\, beginning Feb 24 and ending March 17. The entire 4 week series is $79\, that is under $20 a session and includes all materials! Sign up today!
URL:https://themedium.art/event/art-classes-for-kids-13/
LOCATION:The Medium\, 214 South Main St\, Springdale\, AR\, United States
CATEGORIES:Family,Visual Arts,Workshops
ATTACH;FMTTYPE=image/png:https://themedium.art/wp-content/uploads/2026/02/Screenshot-2026-02-10-at-7.35.26-PM-DkKmLT.png
END:VEVENT
BEGIN:VEVENT
DTSTART;TZID=America/Chicago:20260526T160000
DTEND;TZID=America/Chicago:20260526T173000
DTSTAMP:20260423T052900
CREATED:20260225T005921Z
LAST-MODIFIED:20260423T090414Z
UID:10000687-1779811200-1779816600@themedium.art
SUMMARY:Art Classes for Kids!
DESCRIPTION:Tuesdays\, February 24 – March 17\, 4:00 – 5:30PN \nJoin Brook Blanton of the Sunbeam Art House for a 4 week series of hands-on art for 7-12 year olds! Get ready to mix exploration with classic art mediums in this six-week kids’ process art journey. These once-a-week\, fun\, open-ended art projects will build confidence\, curiosity and imagination in a supportive environment. Through creative freedom we will unlock the spark within. \nThis class will take place on Tuesdays from 4:00 PM to 5:30 PM for four weeks\, beginning Feb 24 and ending March 17. The entire 4 week series is $79\, that is under $20 a session and includes all materials! Sign up today!
URL:https://themedium.art/event/art-classes-for-kids-14/
LOCATION:The Medium\, 214 South Main St\, Springdale\, AR\, United States
CATEGORIES:Family,Visual Arts,Workshops
ATTACH;FMTTYPE=image/png:https://themedium.art/wp-content/uploads/2026/02/Screenshot-2026-02-10-at-7.35.26-PM-DkKmLT.png
END:VEVENT
BEGIN:VEVENT
DTSTART;TZID=America/Chicago:20260602T160000
DTEND;TZID=America/Chicago:20260602T173000
DTSTAMP:20260423T052900
CREATED:20260304T010926Z
LAST-MODIFIED:20260423T090414Z
UID:10000688-1780416000-1780421400@themedium.art
SUMMARY:Art Classes for Kids!
DESCRIPTION:Tuesdays\, February 24 – March 17\, 4:00 – 5:30PN \nJoin Brook Blanton of the Sunbeam Art House for a 4 week series of hands-on art for 7-12 year olds! Get ready to mix exploration with classic art mediums in this six-week kids’ process art journey. These once-a-week\, fun\, open-ended art projects will build confidence\, curiosity and imagination in a supportive environment. Through creative freedom we will unlock the spark within. \nThis class will take place on Tuesdays from 4:00 PM to 5:30 PM for four weeks\, beginning Feb 24 and ending March 17. The entire 4 week series is $79\, that is under $20 a session and includes all materials! Sign up today!
URL:https://themedium.art/event/art-classes-for-kids-15/
LOCATION:The Medium\, 214 South Main St\, Springdale\, AR\, United States
CATEGORIES:Family,Visual Arts,Workshops
ATTACH;FMTTYPE=image/png:https://themedium.art/wp-content/uploads/2026/02/Screenshot-2026-02-10-at-7.35.26-PM-DkKmLT.png
END:VEVENT
BEGIN:VEVENT
DTSTART;TZID=America/Chicago:20260609T160000
DTEND;TZID=America/Chicago:20260609T173000
DTSTAMP:20260423T052900
CREATED:20260311T003337Z
LAST-MODIFIED:20260423T090416Z
UID:10000691-1781020800-1781026200@themedium.art
SUMMARY:Art Classes for Kids!
DESCRIPTION:Tuesdays\, February 24 – March 17\, 4:00 – 5:30PN \nJoin Brook Blanton of the Sunbeam Art House for a 4 week series of hands-on art for 7-12 year olds! Get ready to mix exploration with classic art mediums in this six-week kids’ process art journey. These once-a-week\, fun\, open-ended art projects will build confidence\, curiosity and imagination in a supportive environment. Through creative freedom we will unlock the spark within. \nThis class will take place on Tuesdays from 4:00 PM to 5:30 PM for four weeks\, beginning Feb 24 and ending March 17. The entire 4 week series is $79\, that is under $20 a session and includes all materials! Sign up today!
URL:https://themedium.art/event/art-classes-for-kids-16/
LOCATION:The Medium\, 214 South Main St\, Springdale\, AR\, United States
CATEGORIES:Family,Visual Arts,Workshops
ATTACH;FMTTYPE=image/png:https://themedium.art/wp-content/uploads/2026/02/Screenshot-2026-02-10-at-7.35.26-PM-DkKmLT.png
END:VEVENT
BEGIN:VEVENT
DTSTART;TZID=America/Chicago:20260616T160000
DTEND;TZID=America/Chicago:20260616T173000
DTSTAMP:20260423T052900
CREATED:20260318T003222Z
LAST-MODIFIED:20260423T090416Z
UID:10000696-1781625600-1781631000@themedium.art
SUMMARY:Art Classes for Kids!
DESCRIPTION:Tuesdays\, February 24 – March 17\, 4:00 – 5:30PN \nJoin Brook Blanton of the Sunbeam Art House for a 4 week series of hands-on art for 7-12 year olds! Get ready to mix exploration with classic art mediums in this six-week kids’ process art journey. These once-a-week\, fun\, open-ended art projects will build confidence\, curiosity and imagination in a supportive environment. Through creative freedom we will unlock the spark within. \nThis class will take place on Tuesdays from 4:00 PM to 5:30 PM for four weeks\, beginning Feb 24 and ending March 17. The entire 4 week series is $79\, that is under $20 a session and includes all materials! Sign up today!
URL:https://themedium.art/event/art-classes-for-kids-17/
LOCATION:The Medium\, 214 South Main St\, Springdale\, AR\, United States
CATEGORIES:Family,Visual Arts,Workshops
ATTACH;FMTTYPE=image/png:https://themedium.art/wp-content/uploads/2026/02/Screenshot-2026-02-10-at-7.35.26-PM-DkKmLT.png
END:VEVENT
BEGIN:VEVENT
DTSTART;TZID=America/Chicago:20260623T160000
DTEND;TZID=America/Chicago:20260623T173000
DTSTAMP:20260423T052900
CREATED:20260325T014625Z
LAST-MODIFIED:20260423T090416Z
UID:10000699-1782230400-1782235800@themedium.art
SUMMARY:Art Classes for Kids!
DESCRIPTION:Tuesdays\, February 24 – March 17\, 4:00 – 5:30PN \nJoin Brook Blanton of the Sunbeam Art House for a 4 week series of hands-on art for 7-12 year olds! Get ready to mix exploration with classic art mediums in this six-week kids’ process art journey. These once-a-week\, fun\, open-ended art projects will build confidence\, curiosity and imagination in a supportive environment. Through creative freedom we will unlock the spark within. \nThis class will take place on Tuesdays from 4:00 PM to 5:30 PM for four weeks\, beginning Feb 24 and ending March 17. The entire 4 week series is $79\, that is under $20 a session and includes all materials! Sign up today!
URL:https://themedium.art/event/art-classes-for-kids-18/
LOCATION:The Medium\, 214 South Main St\, Springdale\, AR\, United States
CATEGORIES:Family,Visual Arts,Workshops
ATTACH;FMTTYPE=image/png:https://themedium.art/wp-content/uploads/2026/02/Screenshot-2026-02-10-at-7.35.26-PM-DkKmLT.png
END:VEVENT
BEGIN:VEVENT
DTSTART;TZID=America/Chicago:20260630T160000
DTEND;TZID=America/Chicago:20260630T173000
DTSTAMP:20260423T052900
CREATED:20260401T005057Z
LAST-MODIFIED:20260423T090416Z
UID:10000704-1782835200-1782840600@themedium.art
SUMMARY:Art Classes for Kids!
DESCRIPTION:Tuesdays\, February 24 – March 17\, 4:00 – 5:30PN \nJoin Brook Blanton of the Sunbeam Art House for a 4 week series of hands-on art for 7-12 year olds! Get ready to mix exploration with classic art mediums in this six-week kids’ process art journey. These once-a-week\, fun\, open-ended art projects will build confidence\, curiosity and imagination in a supportive environment. Through creative freedom we will unlock the spark within. \nThis class will take place on Tuesdays from 4:00 PM to 5:30 PM for four weeks\, beginning Feb 24 and ending March 17. The entire 4 week series is $79\, that is under $20 a session and includes all materials! Sign up today!
URL:https://themedium.art/event/art-classes-for-kids-19/
LOCATION:The Medium\, 214 South Main St\, Springdale\, AR\, United States
CATEGORIES:Family,Visual Arts,Workshops
ATTACH;FMTTYPE=image/png:https://themedium.art/wp-content/uploads/2026/02/Screenshot-2026-02-10-at-7.35.26-PM-DkKmLT.png
END:VEVENT
BEGIN:VEVENT
DTSTART;TZID=America/Chicago:20260707T160000
DTEND;TZID=America/Chicago:20260707T173000
DTSTAMP:20260423T052900
CREATED:20260408T011501Z
LAST-MODIFIED:20260423T090417Z
UID:10000705-1783440000-1783445400@themedium.art
SUMMARY:Art Classes for Kids!
DESCRIPTION:Tuesdays\, February 24 – March 17\, 4:00 – 5:30PN \nJoin Brook Blanton of the Sunbeam Art House for a 4 week series of hands-on art for 7-12 year olds! Get ready to mix exploration with classic art mediums in this six-week kids’ process art journey. These once-a-week\, fun\, open-ended art projects will build confidence\, curiosity and imagination in a supportive environment. Through creative freedom we will unlock the spark within. \nThis class will take place on Tuesdays from 4:00 PM to 5:30 PM for four weeks\, beginning Feb 24 and ending March 17. The entire 4 week series is $79\, that is under $20 a session and includes all materials! Sign up today!
URL:https://themedium.art/event/art-classes-for-kids-20/
LOCATION:The Medium\, 214 South Main St\, Springdale\, AR\, United States
CATEGORIES:Family,Visual Arts,Workshops
ATTACH;FMTTYPE=image/png:https://themedium.art/wp-content/uploads/2026/02/Screenshot-2026-02-10-at-7.35.26-PM-DkKmLT.png
END:VEVENT
BEGIN:VEVENT
DTSTART;TZID=America/Chicago:20260714T160000
DTEND;TZID=America/Chicago:20260714T173000
DTSTAMP:20260423T052900
CREATED:20260415T034555Z
LAST-MODIFIED:20260423T090417Z
UID:10000706-1784044800-1784050200@themedium.art
SUMMARY:Art Classes for Kids!
DESCRIPTION:Tuesdays\, February 24 – March 17\, 4:00 – 5:30PN \nJoin Brook Blanton of the Sunbeam Art House for a 4 week series of hands-on art for 7-12 year olds! Get ready to mix exploration with classic art mediums in this six-week kids’ process art journey. These once-a-week\, fun\, open-ended art projects will build confidence\, curiosity and imagination in a supportive environment. Through creative freedom we will unlock the spark within. \nThis class will take place on Tuesdays from 4:00 PM to 5:30 PM for four weeks\, beginning Feb 24 and ending March 17. The entire 4 week series is $79\, that is under $20 a session and includes all materials! Sign up today!
URL:https://themedium.art/event/art-classes-for-kids-21/
LOCATION:The Medium\, 214 South Main St\, Springdale\, AR\, United States
CATEGORIES:Family,Visual Arts,Workshops
ATTACH;FMTTYPE=image/png:https://themedium.art/wp-content/uploads/2026/02/Screenshot-2026-02-10-at-7.35.26-PM-DkKmLT.png
END:VEVENT
BEGIN:VEVENT
DTSTART;TZID=America/Chicago:20260721T160000
DTEND;TZID=America/Chicago:20260721T173000
DTSTAMP:20260423T052900
CREATED:20260422T011740Z
LAST-MODIFIED:20260423T090418Z
UID:10000708-1784649600-1784655000@themedium.art
SUMMARY:Art Classes for Kids!
DESCRIPTION:Tuesdays\, February 24 – March 17\, 4:00 – 5:30PN \nJoin Brook Blanton of the Sunbeam Art House for a 4 week series of hands-on art for 7-12 year olds! Get ready to mix exploration with classic art mediums in this six-week kids’ process art journey. These once-a-week\, fun\, open-ended art projects will build confidence\, curiosity and imagination in a supportive environment. Through creative freedom we will unlock the spark within. \nThis class will take place on Tuesdays from 4:00 PM to 5:30 PM for four weeks\, beginning Feb 24 and ending March 17. The entire 4 week series is $79\, that is under $20 a session and includes all materials! Sign up today!
URL:https://themedium.art/event/art-classes-for-kids-22/
LOCATION:The Medium\, 214 South Main St\, Springdale\, AR\, United States
CATEGORIES:Family,Visual Arts,Workshops
ATTACH;FMTTYPE=image/png:https://themedium.art/wp-content/uploads/2026/02/Screenshot-2026-02-10-at-7.35.26-PM-DkKmLT.png
END:VEVENT
END:VCALENDAR